{"text_format":"1","workbook":"xlsx","n_sheets":6,"sheets":["Pflanzenschutzplanung 2021","Prognose","Berechnung Mittel - Wasser","Anwendertipps","Rohdaten Peronospora","Rohdaten Oidium"],"not_rendered":{"charts":0,"images":7,"macros":1,"external_links":0,"defined_names":0,"comments":0,"pivot_tables":0},"unopened":[],"bounds":{"document_bytes":16777216,"sheet_cells":100000,"rows_first":2000,"rows_last":500,"rows_between":2000,"halvings":0,"cell_chars":16384,"cell_head_chars":4096},"cells_cut":0,"cells_raw":0,"read":"whole","date_system":"1900"}

{"sheet":"Pflanzenschutzplanung 2021","index":0,"n_rows":28,"n_cols":18,"rows_kept":28,"cut":false,"hidden":false,"merged":[[0,1,0,14],[23,2,23,3],[23,8,23,9],[23,11,23,12],[22,6,22,7],[22,10,22,12],[20,6,20,7],[20,10,20,11],[22,2,22,3],[22,4,22,5],[4,14,4,16],[20,14,20,15],[20,2,20,3],[17,10,17,12],[4,4,4,5],[27,0,27,1],[24,8,24,9],[25,4,25,5],[25,8,25,9],[26,8,26,9],[27,8,27,9],[25,6,28,6],[24,2,26,3]]}
[null,"Wichtig: Die gegenüber der Praxis niedrigeren Reinupfermengen sind nur durch die synergistische Wirkung mit Kumar in \nder Tankmischung möglich. Die reduzierten Mengen von Netzschwefel in Mischung wie in der Tabelle empfohlen!"]
[]
[]
["Bitte zutreffendes  auswählen (Pulldown-Felder)  ►►","Peronospora Risiko auswählen ►►","mittel bis hoch","E","Oidium \nRisiko auswählen ►►","mittel bis hoch","E","Prognose-Werte über-nehmen? ►►","ja","E"]
[null,null,null,null,"oder",null,null,null,null,null,null,null,null,"Wasser-Aufwand","Netzschwefel\n(z.B. Stulln)"]
["Termin / Stadium","Menge Reinkupfer  nach Prognose","Reinkupfer\n [g / ha]\nH","Menge Cuprozin progress\n[L / ha]","Gesamt-Menge auf Gesamtfläche","Menge Reinkupfer  nach Prognose","Reinkupfer\n[g / ha]\nH","Menge Funguran progress\n[kg / ha]","Menge Funguran progress auf Gesamtfläche","Menge Kumar nach Prognose","Aufwand \n[kg / ha]\nH","Menge Kumar\n[kg/ha]","Menge Kumar auf Gesamtfläche","Aufwand Empfehlung praxisüblich","Menge Netzschwefel  nach Prognose"," Aufwand\n[kg / ha]\nH ","Menge Netzschwefel nach Gesamtfläche","Wasser-Aufwand  praxisüblich\n (2 fach)"]
["ES 15",{"$f":"IF($C$4=\"niedrig bis mittel\", 'Rohdaten Peronospora'!J13, 'Rohdaten Peronospora'!K13)","v":100},{"$f":"IF($I$4=\"ja\",B7,\"\")","v":100},{"$f":"C7/250","v":0.4},{"$f":"D7*G24","v":2},{"$f":"IF($C$4=\"niedrig bis mittel\", 'Rohdaten Peronospora'!M13, 'Rohdaten Peronospora'!N13)","v":100},{"$f":"IF($I$4=\"ja\",F7,\"\")","v":100},{"$f":"1000*G7/350/1000","v":0.2857142857142857},{"$f":"H7*G24","v":1.4285714285714284},{"$f":"IF($F$4=\"niedrig bis mittel\", 'Rohdaten Oidium'!J13, 'Rohdaten Oidium'!K13)","v":0},{"$f":"IF($I$4=\"ja\",J7,\"\")","v":0},{"$f":"K7","v":0},{"$f":"L7*$G$24","v":0},"200 L",{"$f":"IF($F$4=\"niedrig bis mittel\", 'Rohdaten Oidium'!M13, 'Rohdaten Oidium'!N13)","v":3.6},{"$f":"IF($I$4=\"ja\",O7,\"\")","v":3.6},{"$f":"P7*$G$24","v":18},"200 L"]
["ES 53-55",{"$f":"IF($C$4=\"niedrig bis mittel\", 'Rohdaten Peronospora'!J14, 'Rohdaten Peronospora'!K14)","v":120},120,0.48,{"$f":"D8*G24","v":2.4},{"$f":"IF($C$4=\"niedrig bis mittel\", 'Rohdaten Peronospora'!M14, 'Rohdaten Peronospora'!N14)","v":150},150,0.42857142857142855,{"$f":"H8*G24","v":2.1428571428571428},{"$f":"IF($F$4=\"niedrig bis mittel\", 'Rohdaten Oidium'!J14, 'Rohdaten Oidium'!K14)","v":1.25},1.25,1.25,6.25,"400 L",{"$f":"IF($F$4=\"niedrig bis mittel\", 'Rohdaten Oidium'!M14, 'Rohdaten Oidium'!N14)","v":3},3,15,"400 L"]
["ES 65",{"$f":"IF($C$4=\"niedrig bis mittel\", 'Rohdaten Peronospora'!J15, 'Rohdaten Peronospora'!K15)","v":150},150,0.6,{"$f":"D9*G24","v":3},{"$f":"IF($C$4=\"niedrig bis mittel\", 'Rohdaten Peronospora'!M15, 'Rohdaten Peronospora'!N15)","v":200},200,0.5714285714285714,{"$f":"H9*G24","v":2.8571428571428568},{"$f":"IF($F$4=\"niedrig bis mittel\", 'Rohdaten Oidium'!J15, 'Rohdaten Oidium'!K15)","v":2.5},2.5,2.5,12.5,"400 L",{"$f":"IF($F$4=\"niedrig bis mittel\", 'Rohdaten Oidium'!M15, 'Rohdaten Oidium'!N15)","v":3},3,15,"400 L"]
["ES 68",{"$f":"IF($C$4=\"niedrig bis mittel\", 'Rohdaten Peronospora'!J16, 'Rohdaten Peronospora'!K16)","v":150},150,0.6,{"$f":"D10*G24","v":3},{"$f":"IF($C$4=\"niedrig bis mittel\", 'Rohdaten Peronospora'!M16, 'Rohdaten Peronospora'!N16)","v":250},250,0.7142857142857143,{"$f":"H10*G24","v":3.5714285714285716},{"$f":"IF($F$4=\"niedrig bis mittel\", 'Rohdaten Oidium'!J16, 'Rohdaten Oidium'!K16)","v":2.5},2.5,2.5,12.5,"500 L",{"$f":"IF($F$4=\"niedrig bis mittel\", 'Rohdaten Oidium'!M16, 'Rohdaten Oidium'!N16)","v":3},3,15,"500 L"]
["ES 71",{"$f":"IF($C$4=\"niedrig bis mittel\", 'Rohdaten Peronospora'!J17, 'Rohdaten Peronospora'!K17)","v":200},200,0.8,{"$f":"D11*G24","v":4},{"$f":"IF($C$4=\"niedrig bis mittel\", 'Rohdaten Peronospora'!M17, 'Rohdaten Peronospora'!N17)","v":300},300,0.8571428571428571,{"$f":"H11*G24","v":4.2857142857142856},{"$f":"IF($F$4=\"niedrig bis mittel\", 'Rohdaten Oidium'!J17, 'Rohdaten Oidium'!K17)","v":3.75},3.75,3.75,18.75,"600 L",{"$f":"IF($F$4=\"niedrig bis mittel\", 'Rohdaten Oidium'!M17, 'Rohdaten Oidium'!N17)","v":2},2,10,"600 L"]
["Weitere Beh. 1",{"$f":"IF($C$4=\"niedrig bis mittel\", 'Rohdaten Peronospora'!J18, 'Rohdaten Peronospora'!K18)","v":200},200,0.8,{"$f":"D12*G24","v":4},{"$f":"IF($C$4=\"niedrig bis mittel\", 'Rohdaten Peronospora'!M18, 'Rohdaten Peronospora'!N18)","v":300},300,0.8571428571428571,{"$f":"H12*G24","v":4.2857142857142856},{"$f":"IF($F$4=\"niedrig bis mittel\", 'Rohdaten Oidium'!J18, 'Rohdaten Oidium'!K18)","v":5},5,5,25,"800 L",{"$f":"IF($F$4=\"niedrig bis mittel\", 'Rohdaten Oidium'!M18, 'Rohdaten Oidium'!N18)","v":1},1,5,"800 L"]
["Weitere Beh. 2",{"$f":"IF($C$4=\"niedrig bis mittel\", 'Rohdaten Peronospora'!J19, 'Rohdaten Peronospora'!K19)","v":150},150,0.6,{"$f":"D13*G24","v":3},{"$f":"IF($C$4=\"niedrig bis mittel\", 'Rohdaten Peronospora'!M19, 'Rohdaten Peronospora'!N19)","v":250},250,0.7142857142857143,{"$f":"H13*G24","v":3.5714285714285716},{"$f":"IF($F$4=\"niedrig bis mittel\", 'Rohdaten Oidium'!J19, 'Rohdaten Oidium'!K19)","v":5},5,5,25,"800 L",{"$f":"IF($F$4=\"niedrig bis mittel\", 'Rohdaten Oidium'!M19, 'Rohdaten Oidium'!N19)","v":1},1,5,"800 L"]
["Weitere Beh. 3",{"$f":"IF($C$4=\"niedrig bis mittel\", 'Rohdaten Peronospora'!J20, 'Rohdaten Peronospora'!K20)","v":150},150,0.6,{"$f":"D14*G24","v":3},{"$f":"IF($C$4=\"niedrig bis mittel\", 'Rohdaten Peronospora'!M20, 'Rohdaten Peronospora'!N20)","v":250},250,0.7142857142857143,{"$f":"H14*G24","v":3.5714285714285716},{"$f":"IF($F$4=\"niedrig bis mittel\", 'Rohdaten Oidium'!J20, 'Rohdaten Oidium'!K20)","v":5},5,5,25,"800 L",{"$f":"IF($F$4=\"niedrig bis mittel\", 'Rohdaten Oidium'!M20, 'Rohdaten Oidium'!N20)","v":1},1,5,"800 L"]
["Weitere Beh. 4",{"$f":"IF($C$4=\"niedrig bis mittel\", 'Rohdaten Peronospora'!J21, 'Rohdaten Peronospora'!K21)","v":150},150,0.6,{"$f":"D15*G24","v":3},{"$f":"IF($C$4=\"niedrig bis mittel\", 'Rohdaten Peronospora'!M21, 'Rohdaten Peronospora'!N21)","v":250},250,0.7142857142857143,{"$f":"H15*G24","v":3.5714285714285716},{"$f":"IF($F$4=\"niedrig bis mittel\", 'Rohdaten Oidium'!J21, 'Rohdaten Oidium'!K21)","v":5},5,5,25,"800 L",{"$f":"IF($F$4=\"niedrig bis mittel\", 'Rohdaten Oidium'!M21, 'Rohdaten Oidium'!N21)","v":0},0,0,"800 L"]
["Weitere Beh. 5",{"$f":"IF($C$4=\"niedrig bis mittel\", 'Rohdaten Peronospora'!J22, 'Rohdaten Peronospora'!K22)","v":180},180,0.72,{"$f":"D16*G24","v":3.5999999999999996},{"$f":"IF($C$4=\"niedrig bis mittel\", 'Rohdaten Peronospora'!M22, 'Rohdaten Peronospora'!N22)","v":300},300,0.8571428571428571,{"$f":"H16*G24","v":4.2857142857142856},{"$f":"IF($F$4=\"niedrig bis mittel\", 'Rohdaten Oidium'!J22, 'Rohdaten Oidium'!K22)","v":5},5,5,25,"800 L",{"$f":"IF($F$4=\"niedrig bis mittel\", 'Rohdaten Oidium'!M22, 'Rohdaten Oidium'!N22)","v":0},0,0,"800 L"]
["Fruchtreife",{"$f":"IF($C$4=\"niedrig bis mittel\", 'Rohdaten Peronospora'!J23, 'Rohdaten Peronospora'!K23)","v":300},300,1.2,{"$f":"D17*G24","v":6},{"$f":"IF($C$4=\"niedrig bis mittel\", 'Rohdaten Peronospora'!M23, 'Rohdaten Peronospora'!N23)","v":300},300,0.8571428571428571,{"$f":"H17*G24","v":4.2857142857142856},{"$f":"IF($F$4=\"niedrig bis mittel\", 'Rohdaten Oidium'!J23, 'Rohdaten Oidium'!K23)","v":5},5,5,25,"800 L",{"$f":"IF($F$4=\"niedrig bis mittel\", 'Rohdaten Oidium'!M23, 'Rohdaten Oidium'!N23)","v":0},0,0,"800 L"]
[null,null,null,null,null,null,null,null,null,null,{"$f":"IF(COUNT(K7:K17)>6,\"Kumar ist max. 6x in der Saison erlaubt!\",\"\")","v":"Kumar ist max. 6x in der Saison erlaubt!"}]
[null,null,{"$f":"SUM(C7:C17)/1000","v":1.85},{"$f":"SUM(D7:D18)","v":7.3999999999999986},{"$f":"SUM(E7:E18)","v":37},null,{"$f":"SUM(G7:G17)/1000","v":2.65},{"$f":"SUM(H6:H17)","v":7.5714285714285712},{"$f":"SUM(I7:I17)","v":37.857142857142861},null,{"$f":"SUM(K7:K17)","v":40},{"$f":"K19","v":40},{"$f":"SUM(M7:M17)","v":200},null,null,{"$f":"N19","v":0},{"$f":"SUM(Q7:Q17)","v":88}]
[null,null,"kg / ha"," (L / ha)","L ",null,"kg / ha)","Kg / ha","kg ",null,"kg / ha","kg / ha","kg ",null,null,"(kg / ha)","kg gesamt"]
[null,null,"Gesamtkosten / Rebfläche komplett",null,{"$f":"E19*B25","v":971.25},null,"Gesamtkosten / Rebfläche komplett",null,{"$f":"I19*B26","v":539.46428571428578},null,"Gesamtkosten / Rebfläche komplett",null,{"$f":"M19*B27","v":2370},null,"Gesamt (ohne NS)",null,{"$f":"C24*G24","v":3880.7142857142853}]
[]
[null,"Eingabe","Kosten / ha ",null,"Kupfer / ha",null," Eingabe Gesamtfläche ",null,null,null,"Gesamtbedarf für Bestellung"]
["Produkt","  Preis / Kg              bzw. L",{"$f":"SUM(E21,I21,M21)/G24","v":776.14285714285711},null,{"$f":"SUM(C19,G19)","v":4.5},"kg",5,"ha","Produkt",null,"L bzw.\nkg","Bedarf aufgerundet"]
["Cuprozin progress",26.25,"E",null,null,null,null,null,"Cuprozin progress",null,{"$f":"G24*D19","v":36.999999999999993},{"$f":"ROUNDUP(K25/5,0)*5","v":40},"Liter"]
["Funguran progress",14.25,null,null,null,null,"G",null,"Funguran progress",null,{"$f":"G24*H19","v":37.857142857142854},{"$f":"ROUNDUP(K26/10,0)*10","v":40},"kg"]
["Kumar",11.85,null,null,null,null,null,null,"Kumar",null,{"$f":"G24*L19","v":200},{"$f":"ROUNDUP(K27,-1)","v":200},"kg"]
[" (Vergleichspreis 2021) zzgl. Mwst.",null,null,null,null,null,null,null,"Netzschwefel",null,{"$f":"Q19","v":88},{"$f":"ROUNDUP(K28,-1)","v":90},"kg"]

{"sheet":"Prognose","index":1,"n_rows":36,"n_cols":9,"rows_kept":36,"cut":false,"hidden":false,"merged":[[5,3,5,11],[30,6,32,6],[30,8,32,8],[33,6,34,6],[33,7,34,7],[21,0,21,11],[33,0,34,0],[9,0,9,11],[12,0,12,11],[15,0,15,11],[18,0,18,11],[17,3,17,11],[2,3,2,11],[28,0,28,4],[29,0,31,1],[29,2,29,4],[32,2,32,4],[13,3,13,11],[11,3,11,11],[10,3,10,11],[7,3,7,11],[4,3,4,11],[23,3,23,11],[22,3,22,11],[20,3,20,11],[19,3,19,11],[3,0,3,11],[6,0,6,11]]}
[]
[]
["Prognosen Region","Prognose gesamt",null,"https://www.vitimeteo.de/"]
[]
["Rheingau","Oidium",null,"https://rebschutz.hs-geisenheim.de/wetterstationen/tagesauswertung.php"]
["Rheingau","Peronospora",null,"https://rebschutz.hs-geisenheim.de/wetterstationen/tagesauswertung.php"]
[]
["Rheinhessen","Oidium",null,"https://www.dlr.rlp.de/Agrarmeteorologie/Landwirtschaft/Weinbau/Prognose/Oidium-Vitimeteo/Rheinhessen"]
["Rheinhessen","Peronospora",null,"https://www.dlr.rlp.de/Agrarmeteorologie/Landwirtschaft/Weinbau/Prognose/Peronospora-Vitimeteo/Rheinhessen"]
[]
["Pfalz","Oidium",null,"https://www.dlr.rlp.de/Agrarmeteorologie/Landwirtschaft/Weinbau/Prognose/Oidium-Vitimeteo/Pfalz"]
["Pfalz","Peronospora",null,"https://www.dlr.rlp.de/Agrarmeteorologie/Landwirtschaft/Weinbau/Prognose/Peronospora-Vitimeteo/Pfalz"]
[]
["Franken","Oidium",null,"https://www.vitimeteo-by.de/vitimeteo/default/index"]
["Franken","Peronospora",null,"https://www.vitimeteo-by.de/vitimeteo/default/index"]
[]
["Baden-Württemberg","Oidium",null,"https://www.vitimeteo.de/vitimeteo/default/index"]
["Baden-Württemberg","Peronospora",null,"https://www.vitimeteo.de/vitimeteo/default/index"]
[]
["Nahe / Mittelrhein","Oidium",null,"https://www.wetter.rlp.de/Agrarmeteorologie/Landwirtschaft/Weinbau/Prognose/Oidium-Vitimeteo/Nahe-Mittelrhein"]
["Nahe / Mittelrhein","Peronospora",null,"https://www.wetter.rlp.de/Agrarmeteorologie/Landwirtschaft/Weinbau/Prognose/Peronospora-Vitimeteo/Nahe-Mittelrhein"]
[]
["Mosel-Saar-Ruwer, Ahr","Oidium",null,"https://www.dlr.rlp.de/Agrarmeteorologie/Landwirtschaft/Weinbau/Prognose/Oidium-Vitimeteo/Mosel-Saar-Ruwer,-Ahr"]
["Mosel-Saar-Ruwer, Ahr","Peronospora",null,"https://www.wetter.rlp.de/Agrarmeteorologie/Landwirtschaft/Weinbau/Prognose/Peronospora-Vitimeteo/Mosel-Saar-Ruwer,-Ahr"]
[]
["Fotos von weinbaulichen Schaderregern und Schadsymptomen"]
["https://www.hs-geisenheim.de/praxis/praxiswissen/wetterrebschutz/schadbilder-weinbau/"]
[]
["M A XIM A L MÖ G L I CHER SPRIT Z A B STA ND N ACH O I D I AG 2021",null,null,null,null,null,null,"Falscher Mehltau","Echter Mehltau"]
["Zuletzt  verwendetes Mehltaumittel",null,"Aktueller Indexwert",null,null,null,"Temperaturoptimum","22 bis 25 °C","20 bis 27 °C"]
[null,null,"0-33","34-66","> 66",null,"Ausbruchsbedingungen","Dunkelheit: 22 Uhr bis 5 Uhr\nTemperatur zu Beginn der Feucht-/Dunkelphase > 11,5°C\nTemperaturmittel in der Ausbruchsperiode 22°° - 5°° > 8°C","Dunkelheit/Licht"]
[null,null,"geringes Risiko","mittleres Risiko","hohes Risiko"]
["Produkte","Einstufung","Tage max. Spritzabstand",null,null,null,null,"Relative Feuchte > 95 %"]
["Netzschwefel Kumar ",null,null,null,null,null,"Optimale Infektionsbedingungen","Je höher die Temperaturen und je länger die Nässeperiode","Je länger die Temperaturen im Optimalbereich bei gleichzeitig"]
[null,1,"10 bis 12 Tage","7 bis 9 Tage","6 bis 7 Tage",null,null,null,"hoher Luftfeuchte"]
[null,null,null,null,null,null,"Quelle: Dipl. Önologe Dr., Uwe Hofmann, ECO-CONSULT"]

{"sheet":"Berechnung Mittel - Wasser","index":2,"n_rows":45,"n_cols":1,"rows_kept":45,"cut":false,"hidden":false,"merged":[]}
[]
[]
[]
[]
[]
[]
[]
[]
[]
[]
[]
[]
[]
[]
[]
[]
[]
[]
[]
[]
[]
[]
[]
[]
[]
[]
[]
[]
[]
[]
[]
[]
[]
[]
[]
[]
[]
[]
[]
[]
[]
[]
[]
[]
["Quelle: Rebschutzbroschüre DLR Rheinhessen-Nahe-Hunsrück 2021"]

{"sheet":"Anwendertipps","index":3,"n_rows":42,"n_cols":18,"rows_kept":42,"cut":false,"hidden":false,"merged":[[36,0,37,0],[38,0,39,0],[3,0,5,0],[3,15,5,15],[3,16,5,16],[36,16,37,16],[26,0,27,0],[28,0,29,0],[30,0,31,0],[32,0,33,0],[34,0,35,0],[20,0,21,0],[20,8,21,8],[22,9,23,9],[24,10,25,10],[16,0,17,0],[3,9,5,9],[3,10,5,10],[3,11,5,11],[3,12,5,12],[3,13,5,13],[3,14,5,14],[8,2,9,2],[10,3,11,3],[18,0,19,0],[22,0,23,0],[24,0,25,0],[6,0,7,0],[6,1,7,1],[16,1,17,1],[8,0,9,0],[14,0,15,0],[12,1,13,1],[14,1,15,1],[10,0,11,0],[12,0,13,0],[3,17,5,17],[6,2,7,2],[6,3,7,3],[6,4,7,4],[6,5,7,5],[8,1,9,1],[10,1,11,1],[10,2,11,2],[12,4,13,4],[6,6,7,6],[6,7,7,7],[6,8,7,8],[12,2,13,2],[12,3,13,3],[10,4,11,4],[10,5,11,5],[10,6,11,6],[3,1,5,1],[3,2,5,2],[3,3,5,3],[3,4,5,4],[3,5,5,5],[3,6,5,6],[3,7,5,7],[3,8,5,8],[26,11,27,11],[16,6,17,6],[18,7,19,7],[14,2,15,2],[14,3,15,3],[14,4,15,4],[6,9,7,9],[6,10,7,10],[6,11,7,11],[8,3,9,3],[8,4,9,4],[8,5,9,5],[8,6,9,6],[8,7,9,7],[8,8,9,8],[8,9,9,9],[8,10,9,10],[8,11,9,11],[10,10,11,10],[10,11,11,11],[14,6,15,6],[14,7,15,7],[14,8,15,8],[6,12,7,12],[6,13,7,13],[8,15,9,15],[8,16,9,16],[8,17,9,17],[38,17,39,17],[28,12,29,12],[30,13,31,13],[32,14,33,14],[34,15,35,15],[10,12,11,12],[10,13,11,13],[10,14,11,14],[10,15,11,15],[6,14,7,14],[6,15,7,15],[6,17,7,17],[6,16,7,16],[8,12,9,12],[8,13,9,13],[8,14,9,14],[34,16,35,16],[34,17,35,17],[36,17,37,17],[14,10,15,10],[10,16,11,16],[10,17,11,17],[12,5,13,5],[12,6,13,6],[12,7,13,7],[12,8,13,8],[12,9,13,9],[12,10,13,10],[12,11,13,11],[12,12,13,12],[12,13,13,13],[12,14,13,14],[12,15,13,15],[12,16,13,16],[12,17,13,17],[14,5,15,5],[10,7,11,7],[10,8,11,8],[10,9,11,9],[18,8,19,8],[18,9,19,9],[18,10,19,10],[18,11,19,11],[18,12,19,12],[14,16,15,16],[14,17,15,17],[16,7,17,7],[16,8,17,8],[16,9,17,9],[16,10,17,10],[16,11,17,11],[16,12,17,12],[16,13,17,13],[16,14,17,14],[16,15,17,15],[16,16,17,16],[16,17,17,17],[14,11,15,11],[14,12,15,12],[14,13,15,13],[14,14,15,14],[14,15,15,15],[14,9,15,9],[22,10,23,10],[22,11,23,11],[22,13,23,13],[22,12,23,12],[22,14,23,14],[18,17,19,17],[20,9,21,9],[20,10,21,10],[20,11,21,11],[20,12,21,12],[20,13,21,13],[20,14,21,14],[20,15,21,15],[20,16,21,16],[20,17,21,17],[18,13,19,13],[18,14,19,14],[18,15,19,15],[18,16,19,16],[22,15,23,15],[22,16,23,16],[22,17,23,17],[24,11,25,11],[24,12,25,12],[24,13,25,13],[24,14,25,14],[24,15,25,15],[24,17,25,17],[24,16,25,16],[26,17,27,17],[28,13,29,13],[28,14,29,14],[28,15,29,15],[28,17,29,17],[28,16,29,16],[26,12,27,12],[26,13,27,13],[26,14,27,14],[26,15,27,15],[26,16,27,16],[28,11,29,11],[38,16,39,16],[36,15,37,15],[38,15,39,15],[30,14,31,14],[30,15,31,15],[30,16,31,16],[30,17,31,17],[32,15,33,15],[32,16,33,16],[32,17,33,17],[16,2,17,2],[16,3,17,3],[16,4,17,4],[16,5,17,5],[18,1,19,1],[18,2,19,2],[18,3,19,3],[18,4,19,4],[18,5,19,5],[20,7,21,7],[22,1,23,1],[22,2,23,2],[22,3,23,3],[22,4,23,4],[22,5,23,5],[22,6,23,6],[22,7,23,7],[18,6,19,6],[20,1,21,1],[20,2,21,2],[20,3,21,3],[20,4,21,4],[20,5,21,5],[20,6,21,6],[22,8,23,8],[24,1,25,1],[24,2,25,2],[24,3,25,3],[24,4,25,4],[24,5,25,5],[24,6,25,6],[24,7,25,7],[24,8,25,8],[24,9,25,9],[26,1,27,1],[26,2,27,2],[26,3,27,3],[26,4,27,4],[26,5,27,5],[26,6,27,6],[26,7,27,7],[26,8,27,8],[26,9,27,9],[26,10,27,10],[28,1,29,1],[28,2,29,2],[28,3,29,3],[28,4,29,4],[28,5,29,5],[28,6,29,6],[28,7,29,7],[28,8,29,8],[28,9,29,9],[28,10,29,10],[30,10,31,10],[30,11,31,11],[30,12,31,12],[32,1,33,1],[32,2,33,2],[32,3,33,3],[32,4,33,4],[32,5,33,5],[32,6,33,6],[32,7,33,7],[32,8,33,8],[32,9,33,9],[32,10,33,10],[32,11,33,11],[32,12,33,12],[30,1,31,1],[30,2,31,2],[30,3,31,3],[30,4,31,4],[30,5,31,5],[30,6,31,6],[30,7,31,7],[30,8,31,8],[30,9,31,9],[38,11,39,11],[38,12,39,12],[38,13,39,13],[38,14,39,14],[32,13,33,13],[34,1,35,1],[34,2,35,2],[34,3,35,3],[34,4,35,4],[34,5,35,5],[34,6,35,6],[34,7,35,7],[34,8,35,8],[34,9,35,9],[34,10,35,10],[34,11,35,11],[34,12,35,12],[34,13,35,13],[34,14,35,14],[36,1,37,1],[36,2,37,2],[36,3,37,3],[36,4,37,4],[36,5,37,5],[36,6,37,6],[36,7,37,7],[36,8,37,8],[36,9,37,9],[36,10,37,10],[36,11,37,11],[36,12,37,12],[36,13,37,13],[36,14,37,14],[38,6,39,6],[38,7,39,7],[38,8,39,8],[38,9,39,9],[38,10,39,10],[38,1,39,1],[38,2,39,2],[38,3,39,3],[38,4,39,4],[38,5,39,5]]}
["Mischbarkeit von Pflanzenbehandlungsmitteln im ökologischen Weinbau"]
[]
[]
["Mittel","Kupfer- hydroxid + Kupfersulfat","MycoSin- VIN","Schwefel","Vitisan","Kumar","FytoSave","Taegro","Molkepulver mOlnasa","BIOCOS","Equisetum plus","Wasserglas","BT -","Bio Aminosol","WETCIT","Cocana","ProFital Fluid","NuFilm"]
[]
[]
["Kupferhydroxid + Kupfersulfat",null,"--","+","+","+","+","+","+","+","+","+","+ 1)","+ 2)","+","+","+","+"]
[]
["MycoSin-VIN","--",null,"+","-","-","?","?","-","-","-","-","+","-","-","-","-","-"]
[]
["Schwefel","+","+",null,"+","+","+","+","+","+","+","+","+","+","+","+","+","+"]
[]
["Vitisan","+","-","+",null,"-","+","+","-","-","+","-","+","+","+","+","+","+"]
[]
["Kumar","+","-","+","-",null,"+","+","-","-","-","-","+","-","-","-","-","-"]
[]
["FytoSave","+","?","+","+","+",null,"-","?","?","?","?","?","?","+","?","?","?"]
[]
["Taegro","+","?","+","+","+","-",null,"?","?","?","?","?","?","+","?","?","?"]
[]
["Molkepulver mOlnasa","+","-","+","-","-","?","?",null,"+","-","-","+","+","+","+","+","+"]
[]
["BIOCOS","+","-","+","-","-","?","?","+",null,"+","-","-","-","-","-","-","-"]
[]
["Equisetum plus","+","-","+","+","-","?","?","-","+",null,"+","-","+","+","+","+","+"]
[]
["Wasserglas 4)","+","-","+","-","-","?","?","-","-","+",null,"-","+ 3)","+","+","+","+"]
[]
["BT -Präparate","+ 1)","+","+","+","+","?","?","+","-","-","-",null,"-","+","+","+","+"]
[]
["Bio Aminosol","+ 2)","-","+","+","-","?","?","+","-","+","+ 3)","-",null,"+","+","+","+"]
[]
["WETCIT","+","-","+","+","-","+","+","+","-","+","+","+","+",null,"-","-","-"]
[]
["Cocana","+","-","+","+","-","?","?","+","-","+","+","+","+","+",null,"-","-"]
[]
["ProFital Fluid","+","-","+","+","-","?","?","+","-","+","+","+","+","+","-",null,"-"]
[]
["NuFilm","+","-","+","+","-","?","?","+","-","+","+","+","+","+","-","-"]
[]
[]
[null,null,null,null,null,"Quelle: DLR RNH Beate Fader und Frederik Heller | RP Darmstadt, Dezernat Weinbau, Veronica Ullrich, Stand 2021"]

{"sheet":"Rohdaten Peronospora","index":4,"n_rows":23,"n_cols":14,"rows_kept":23,"cut":false,"hidden":true,"merged":[]}
[]
[]
[null,null,null,null,null,null,"niedrig bis mittel",null,null,"ja"]
[null,null,null,null,null,null,"mittel bis hoch",null,null,"nein"]
[]
[]
[null,"Bitte zutreffendes Krankheitsrisiko auswählen"]
[]
[null,"Peronospora Risiko ►►","mittel bis hoch",null,null,null,"Werte:",null,null,"Cuprozin",null,null,"Funguran"]
[]
[null,null,"Cuprozin","Funguran",null,null,"Cuprozin","Funguran",null,"niedrig bis mittel","mittel bis hoch",null,"niedrig bis mittel","mittel bis hoch"]
[]
[null,"ES 15",{"$f":"IF($C$9=\"\",\"\",G13)","v":100},100,null,null,{"$f":"IF($C$9=\"niedrig bis mittel\",J13,K13)","v":100},{"$f":"IF($C$9=\"niedrig bis mittel\",M13,N13)","v":100},null,80,100,null,100,100]
[null,"ES 53 bis 55",120,150,null,null,{"$f":"IF($C$9=\"niedrig bis mittel\",J14,K14)","v":120},{"$f":"IF($C$9=\"niedrig bis mittel\",M14,N14)","v":150},null,100,120,null,120,150]
[null,"ES 65",150,200,null,null,{"$f":"IF($C$9=\"niedrig bis mittel\",J15,K15)","v":150},{"$f":"IF($C$9=\"niedrig bis mittel\",M15,N15)","v":200},null,100,150,null,150,200]
[null,"ES 68",150,250,null,null,{"$f":"IF($C$9=\"niedrig bis mittel\",J16,K16)","v":150},{"$f":"IF($C$9=\"niedrig bis mittel\",M16,N16)","v":250},null,100,150,null,200,250]
[null,"ES 71",200,300,null,null,200,300,null,100,200,null,200,300]
[null,"Weitere Beh. 1",200,300,null,null,200,300,null,100,200,null,200,300]
[null,"Weitere Beh. 2",150,250,null,null,150,250,null,100,150,null,200,250]
[null,"Weitere Beh. 3",150,250,null,null,150,250,null,100,150,null,200,250]
[null,"Weitere Beh. 4",150,250,null,null,150,250,null,100,150,null,200,250]
[null,"Abschluss",180,300,null,null,180,300,null,100,180,null,200,300]
[null,"Fruchtreife",300,300,null,null,300,300,null,200,300,null,300,300]

{"sheet":"Rohdaten Oidium","index":5,"n_rows":23,"n_cols":14,"rows_kept":23,"cut":false,"hidden":true,"merged":[]}
[]
[]
[null,null,null,null,null,null,"niedrig bis mittel"]
[null,null,null,null,null,null,"mittel bis hoch"]
[]
[]
[null,"Bitte zutreffendes Krankheitsrisiko auswählen"]
[]
[null,"Oidium Risiko ►►","mittel bis hoch",null,null,null,"Werte:",null,null,"Kumar",null,null,"Netzschwefel"]
[]
[null,null,"Kumar","Netzschwefel",null,null,"Kumar","Netzschwefel",null,"niedrig bis mittel","mittel bis hoch",null,"niedrig bis mittel","mittel bis hoch"]
[]
[null,"ES 15",{"$f":"IF($C$9=\"\",\"\",G13)","v":0},{"$f":"IF($C$9=\"\",\"\",H13)","v":3.6},null,null,{"$f":"IF($C$9=\"niedrig bis mittel\",J13,K13)","v":0},{"$f":"IF($C$9=\"niedrig bis mittel\",M13,N13)","v":3.6},null,0,0,null,3.6,3.6]
[null,"ES 53 bis 55",1.25,3,null,null,{"$f":"IF($C$9=\"niedrig bis mittel\",J14,K14)","v":1.25},{"$f":"IF($C$9=\"niedrig bis mittel\",M14,N14)","v":3},null,0,1.25,null,5,3]
[null,"ES 65",150,3,null,null,{"$f":"IF($C$4=\"niedrig bis mittel\", 'Rohdaten Peronospora'!J15, 'Rohdaten Peronospora'!K15)","v":150},{"$f":"IF($C$9=\"niedrig bis mittel\",M15,N15)","v":3},null,2.5,2.5,null,3,3]
[null,"ES 68",2.5,3,null,null,{"$f":"IF($C$9=\"niedrig bis mittel\",J16,K16)","v":2.5},{"$f":"IF($C$9=\"niedrig bis mittel\",M16,N16)","v":3},null,2.5,2.5,null,3,3]
[null,"ES 71",3.75,2,null,null,3.75,2,null,3,3.75,null,3,2]
[null,"Weitere Beh. 1",5,1,null,null,5,1,null,3,5,null,3,1]
[null,"Weitere Beh. 2",5,1,null,null,5,1,null,3,5,null,3,1]
[null,"Weitere Beh. 3",5,1,null,null,5,1,null,3,5,null,3,1]
[null,"Weitere Beh. 4",5,0,null,null,5,0,null,5,5,null,0,0]
[null,"Weitere Beh. 5",5,0,null,null,5,0,null,5,5,null,0,0]
[null,"Fruchtreife",5,0,null,null,5,0,null,5,5,null,0,0]